BEGIN:VCALENDAR
VERSION:2.0
PRODID:-//www.hmhousing.org//NONSGML kigkonsult.se iCalcreator 2.30.10//
CALSCALE:GREGORIAN
METHOD:PUBLISH
UID:0362b6ec-5473-4439-b52b-cf27cc9d142e
X-WR-CALDESC:
X-WR-RELCALID:43ceccfd1665e6da35566947d0da1ae7
X-WR-TIMEZONE:America/New_York
BEGIN:VTIMEZONE
TZID:America/New_York
BEGIN:STANDARD
TZNAME:EST
DTSTART:20241103T020000
TZOFFSETFROM:-0400
TZOFFSETTO:-0500
RDATE:20251102T020000
END:STANDARD
BEGIN:DAYLIGHT
TZNAME:EDT
DTSTART:20240310T020000
TZOFFSETFROM:-0500
TZOFFSETTO:-0400
RDATE:20250309T020000
RDATE:20260308T020000
END:DAYLIGHT
END:VTIMEZONE
BEGIN:VEVENT
UID:c891f76c-3995-4e0a-ae25-87797855b6b8
DTSTAMP:20260420T102647Z
DESCRIPTION:
DTSTART;TZID=America/New_York:20241206T103000
DTEND;TZID=America/New_York:20241206T113000
LOCATION:Vila at Marian Park
SUMMARY:Gentle Yoga
END:VEVENT
END:VCALENDAR
